BEGIN:VCALENDAR
VERSION:2.0
PRODID:-//Amicale des Retraités BNC - ECPv6.2.3//NONSGML v1.0//EN
CALSCALE:GREGORIAN
METHOD:PUBLISH
X-WR-CALNAME:Amicale des Retraités BNC
X-ORIGINAL-URL:https://amicaledesretraitesbnc.ca
X-WR-CALDESC:évènements pour Amicale des Retraités BNC
REFRESH-INTERVAL;VALUE=DURATION:PT1H
X-Robots-Tag:noindex
X-PUBLISHED-TTL:PT1H
BEGIN:VTIMEZONE
TZID:America/New_York
BEGIN:DAYLIGHT
TZOFFSETFROM:-0500
TZOFFSETTO:-0400
TZNAME:EDT
DTSTART:20220313T070000
END:DAYLIGHT
BEGIN:STANDARD
TZOFFSETFROM:-0400
TZOFFSETTO:-0500
TZNAME:EST
DTSTART:20221106T060000
END:STANDARD
END:VTIMEZONE
BEGIN:VEVENT
DTSTART;TZID=America/New_York:20221214T083000
DTEND;TZID=America/New_York:20221214T120000
DTSTAMP:20260422T200108
CREATED:20220902T135251Z
LAST-MODIFIED:20221002T113939Z
UID:10000412-1671006600-1671019200@amicaledesretraitesbnc.ca
SUMMARY:Bénévolat Moisson Montréal  -  Montréal/Montérégie
DESCRIPTION:Pour une sixième année\, nous recherchons des bénévoles pour aider l’organisme MOISSON MONTRÉAL \nà préparer différents aliments destinés aux plus démunis. \nVenez avec parents et amis et joignez vous à notre équipe pour cet avant-midi de bénévolat. \nPar la suite\, il nous fera plaisir de vous offrir gratuitement pizza et breuvage pour le lunch. \n  \nVERSION IMPRIMABLE
URL:https://amicaledesretraitesbnc.ca/event/benevolat-moisson-montreal-montreal-monteregie-3/
LOCATION:Moisson Montréal\, 6880 Chemin de la Côte de Liesse\, Saint-Laurent\, Québec\, H4T 2A1\, Canada
CATEGORIES:Montréal / Montérégie
ORGANIZER;CN="Serge Chalifoux":MAILTO:amicalemtlmonteregie@gmail.com
END:VEVENT
END:VCALENDAR