BEGIN:VCALENDAR
VERSION:2.0
PRODID:-//Amicale des Retraités BNC - ECPv6.2.3//NONSGML v1.0//EN
CALSCALE:GREGORIAN
METHOD:PUBLISH
X-ORIGINAL-URL:https://amicaledesretraitesbnc.ca
X-WR-CALDESC:évènements pour Amicale des Retraités BNC
REFRESH-INTERVAL;VALUE=DURATION:PT1H
X-Robots-Tag:noindex
X-PUBLISHED-TTL:PT1H
BEGIN:VTIMEZONE
TZID:America/New_York
BEGIN:DAYLIGHT
TZOFFSETFROM:-0500
TZOFFSETTO:-0400
TZNAME:EDT
DTSTART:20220313T070000
END:DAYLIGHT
BEGIN:STANDARD
TZOFFSETFROM:-0400
TZOFFSETTO:-0500
TZNAME:EST
DTSTART:20221106T060000
END:STANDARD
END:VTIMEZONE
BEGIN:VEVENT
DTSTART;TZID=America/New_York:20220914T153000
DTEND;TZID=America/New_York:20220914T200000
DTSTAMP:20260422T182346
CREATED:20210729T193733Z
LAST-MODIFIED:20220821T215901Z
UID:10000357-1663169400-1663185600@amicaledesretraitesbnc.ca
SUMMARY:Croisière 25e anniversaire -  Montréal/Montérégie
DESCRIPTION:DÉSOLÉ\, IL N’Y A PLUS DE PLACE DE DISPONIBLE! \nC’est un nouveau rendez-vous et cette fois-ci pour notre croisière 25e anniversaire. \nÀ bord de l’Archipel de Navark\, un bateau de 2 étages. \nINCLUANT : CROISIÈRE (4 heures) – COCKTAIL – SOUPER – 2 BOISSONS ALCOOLISÉES – MUSIQUE – DANSE – STATIONNEMENT. \n  \nVERSION IMPRIMABLE ET COUPON-RÉPONSE
URL:https://amicaledesretraitesbnc.ca/event/montreal-monteregie/
LOCATION:Marina de Longueuil-Croisières Navark\, 101 Chemin de la Rive\, Longueuil\, Québec\, J4H 4C9\, Canada
CATEGORIES:Montréal / Montérégie,Spécial 25e
ORGANIZER;CN="Serge Chalifoux":MAILTO:amicalemtlmonteregie@gmail.com
END:VEVENT
END:VCALENDAR