BEGIN:VCALENDAR
VERSION:2.0
PRODID:-//Amicale des Retraités BNC - ECPv6.2.3//NONSGML v1.0//EN
CALSCALE:GREGORIAN
METHOD:PUBLISH
X-ORIGINAL-URL:https://amicaledesretraitesbnc.ca
X-WR-CALDESC:évènements pour Amicale des Retraités BNC
REFRESH-INTERVAL;VALUE=DURATION:PT1H
X-Robots-Tag:noindex
X-PUBLISHED-TTL:PT1H
BEGIN:VTIMEZONE
TZID:America/New_York
BEGIN:DAYLIGHT
TZOFFSETFROM:-0500
TZOFFSETTO:-0400
TZNAME:EDT
DTSTART:20200308T070000
END:DAYLIGHT
BEGIN:STANDARD
TZOFFSETFROM:-0400
TZOFFSETTO:-0500
TZNAME:EST
DTSTART:20201101T060000
END:STANDARD
END:VTIMEZONE
BEGIN:VEVENT
DTSTART;VALUE=DATE:20200314
DTEND;VALUE=DATE:20201101
DTSTAMP:20260424T215600
CREATED:20200314T140838Z
LAST-MODIFIED:20200322T175625Z
UID:10000521-1584144000-1604188799@amicaledesretraitesbnc.ca
SUMMARY:Toutes les activités sont annulées - voir votre coordonnateur
DESCRIPTION:Toutes les activités du 25e sont reportées en 2021. Des discussions avec les coordonnateurs ont été faites. \nToutes les activités jusqu’au 31 octobre 2020 sont annulées. \nProcédure de remboursement pour les activités sauf le voyage Espagne – Portugal: les chèques reçus pour réservation d’activités et non encaissés seront détruits\, nul besoin de contacter l’organisateur de l’activité. Pour les autres formes de paiement ou chèque déjà encaissé\, le coordonnateur ou le responsable de l’activité communiquera avec vous. \nPour le voyage Espagne – Portugal : une communication spéciale sera expédiée sous peu aux voyageurs par le comité voyage impliquant le grossiste et l’agence. \nSi vous avez des questions\, nous vous invitons à communiquer avec le coordonnateur de votre région.  Vous pouvez trouver ses coordonnés à l’onglet à propos/comité/…. votre région
URL:https://amicaledesretraitesbnc.ca/event/activite-annulee-voir-votre-coordonnateur/
LOCATION:Québec
CATEGORIES:Activités corporatives,Bas-St-Laurent,Centre-du-Québec,Estrie,Lanaudière / Laval,Laurentides,Mauricie,Montréal / Montérégie,Outaouais et est-Ontario,Québec / Chaudière-Appalaches,Spécial 25e,Voyages
END:VEVENT
BEGIN:VEVENT
DTSTART;TZID=America/New_York:20200504T083000
DTEND;TZID=America/New_York:20200504T113000
DTSTAMP:20260424T215600
CREATED:20191116T200030Z
LAST-MODIFIED:20191219T211548Z
UID:10000484-1588581000-1588591800@amicaledesretraitesbnc.ca
SUMMARY:Déjeuner St-Hyacinthe - Montréal / Montérégie
DESCRIPTION:Vous êtes cordialement invités à vous joindre à nous pour discuter\, rencontrer anciens collègues et papoter autour d’un bon déjeuner. \n  \nDATES :    Les premiers lundis de chaque mois impair (4 novembre 2019\, 6 janvier 2020\, 2 mars 2020\, 4 mai 2020\, 7 septembre 2020)\,  \nLIEU :      Resto-Grill Casa Flora\, au 3275 boul. Laframboise à St‑Hyacinthe. (Vaste stationnement à l’arrière du resto) \nHEURE :    8 h 30 \nCOÜT :      Un menu varié incluant choix du jour vous est offert. Le coût est à la charge de chacun. \n  \nPour vous inscrire communiquer avec Michel Coutu : mcoutu@guevremont.net ou au 450‑799‑4225. \nVERSION IMPRIMABLE
URL:https://amicaledesretraitesbnc.ca/event/dejeuner-st-hyacinthe-montreal-monteregie-2/
LOCATION:Resto Grill Casa Flora\, 3275\, boul. Laframboise\, St-Hyacinthe\, Québec\, J2S4Z6\, Canada
CATEGORIES:Montréal / Montérégie
ORGANIZER;CN="Michel Coutu":MAILTO:mcoutu@guevremont.net
END:VEVENT
BEGIN:VEVENT
DTSTART;TZID=America/New_York:20200505T083000
DTEND;TZID=America/New_York:20200505T120000
DTSTAMP:20260424T215600
CREATED:20200301T160212Z
LAST-MODIFIED:20200301T160212Z
UID:10000518-1588667400-1588680000@amicaledesretraitesbnc.ca
SUMMARY:Bénévolat Moisson Montréal - Montréal/Montérégie
DESCRIPTION:Pour une sixième année consécutive\,  nous sommes à la recherche de bénévoles pour aider l’organisme Moisson Montréal\, situé au 6880 Chemin de la Côte de Liesse\, Saint-Laurent\, à préparer différents aliments destinés aux plus démunis de notre société. \nNous aurons encore cette année la salle de conférence qui nous sera réservée pour le diner. Il nous fera plaisir de vous offrir gratuitement la pizza et le breuvage. Les conjoints\, famille et amis sont aussi les bienvenus. \nNous vous demandons de bien vouloir confirmer votre présence par courriel ou par téléphone.  Nous communiquerons avec vous pour vous donner les dernières informations. Pour plus de détails vous pouvez rejoindre : \nClément Goyette au 450 676-9620 ou par courriel cgoyette@bell.net \nSerge Chalifoux  au 450 445-0688 ou par courriel sergebnc@videotron.ca \nVERSION IMPRIMABLE ET DÉTAILS COMPLÉMENTAIRES \n 
URL:https://amicaledesretraitesbnc.ca/event/benevolat-moisson-montreal-montreal-monteregie-2/
LOCATION:Moisson Montréal\, 6880 Chemin de la Côte de Liesse\, Saint-Laurent\, Québec\, H4T 2A1\, Canada
CATEGORIES:Montréal / Montérégie
ORGANIZER;CN="Serge Chalifoux":MAILTO:amicalemtlmonteregie@gmail.com
END:VEVENT
BEGIN:VEVENT
DTSTART;TZID=America/New_York:20200507T094500
DTEND;TZID=America/New_York:20200507T153000
DTSTAMP:20260424T215600
CREATED:20191021T185039Z
LAST-MODIFIED:20200308T155316Z
UID:10000465-1588844700-1588865400@amicaledesretraitesbnc.ca
SUMMARY:Tournoi de quilles inter-régional - Mauricie
DESCRIPTION:  \nLE TOURNOI INTER-RÉGIONAL DE PETITES ET GROSSES QUILLES – 2020 \n  \nPetites quilles en ABAT-NEUF  \nGrosses quilles : standard \nEndroit : Salon de quilles (Quillorama) du Centre commercial du Carrefour T.R.O.  Stationnement gratuit. \n Pour les grosses quilles :Nous vous donnons rendez-vous à la salle de quilles à 9 :45 et la partie débutera à 10 :00. \nPour les petites quilles : Nous vous donnons rendez-vous à 10 :00 et la première partie débutera à 10 :15 \nSouliers disponibles sur place à vos frais au coût de 3$. \nDîner : à 12 :30h au Restaurant Le Grecque 9151 Rue Notre Dame O\, Trois-Rivières\, QC G9B 6T2 819-377-2511 \nCoût : 6$ pour trois parties de quilles\, membres et invités. Cette somme doit être expédiée au coordonnateur (trice) de votre région. \nDate limite d’inscription : 10 avril 2020 \nDÉTAILS ET FORMULAIRE D’INSCRIPTION \nLISTE DES COORDONNATEURS
URL:https://amicaledesretraitesbnc.ca/event/tournoi-de-quilles-inter-regional/
LOCATION:Salon de quilles Quillorama Trois-Rivières\, 4520 des Récollets\, Trois-Rivières\, Québec\, G9A 4N1\, Canada
CATEGORIES:Bas-St-Laurent,Centre-du-Québec,Estrie,Lanaudière / Laval,Laurentides,Mauricie,Montréal / Montérégie,Outaouais et est-Ontario,Québec / Chaudière-Appalaches
END:VEVENT
BEGIN:VEVENT
DTSTART;TZID=America/New_York:20200519T094500
DTEND;TZID=America/New_York:20200519T150000
DTSTAMP:20260424T215600
CREATED:20200225T200804Z
LAST-MODIFIED:20200225T203739Z
UID:10000485-1589881500-1589900400@amicaledesretraitesbnc.ca
SUMMARY:Activité Mamy et Papy - Montréal / Montérégie
DESCRIPTION:Vous aimez vous amuser avec vos petits-enfants et aussi les choyer\, alors cette activité est pour vous. Venez vous divertir avec eux dans un des centres d’amusement les plus modernes au Québec. \nVoici quelques activités que les enfants et grands-parents (oui\, c’est permis) pourront effectuer : Trampolines\, Labyrinthe\, Tyroliennes\, Défi laser\, Glissades\, Balle-O-Cité\, Défi lumière. Nouveauté cette année: l’accès aux AUTOS TAMPONNEUSES est inclus dans le prix \nUn espace sera réservé pour les effets personnels ainsi que pour le diner offert gratuitement à tous incluant grands-parents\, parents et enfants (Pizzas de Boston Pizza et breuvages). Ceux qui le désirent peuvent apporter leur collation en remplacement de la pizza. \nNaturellement\, les parents qui désirent participer à cette activité sont les bienvenus. \nCOUT :   \nEnfant de moins de 3 ans 8 $\nEnfant de 3 ans et plus 17.20 $\nParents : 8.00 $\nGrands-parents membres et 60 ans et plus + non-membre : Gratuit \nRepas : Gratuit \nCommentaires sur le site TripAdviser \n« Excellent endroit pour se divertir en famille beaucoup de jeux et variétés.» \n« L’endroit rêvé pour les enfants pour s’amuser\, courir et lâcher son fou.» \n«Ma fille de 5 ans a adoré !!!! Tout est parfait ! Nous pouvons manger sur place. L’endroit est propre. Le personnel est super gentil. » \nVERSION IMPRIMABLE ET COUPON-RÉPONSE \nSVP répondre avant le 12 mai 2020
URL:https://amicaledesretraitesbnc.ca/event/activite-mamy-et-papy-montreal-monteregie/
LOCATION:FUN-TROPOLIS\, St Hubert\, 2975 Boul. Moïse-Vincent\, St-Hubert\, Québec\, J3Z 1K2\, Canada
CATEGORIES:Montréal / Montérégie
ORGANIZER;CN="Serge Chalifoux":MAILTO:amicalemtlmonteregie@gmail.com
END:VEVENT
END:VCALENDAR