BEGIN:VCALENDAR
VERSION:2.0
PRODID:-//Amicale des Retraités BNC - ECPv6.2.3//NONSGML v1.0//EN
CALSCALE:GREGORIAN
METHOD:PUBLISH
X-WR-CALNAME:Amicale des Retraités BNC
X-ORIGINAL-URL:https://amicaledesretraitesbnc.ca
X-WR-CALDESC:évènements pour Amicale des Retraités BNC
REFRESH-INTERVAL;VALUE=DURATION:PT1H
X-Robots-Tag:noindex
X-PUBLISHED-TTL:PT1H
BEGIN:VTIMEZONE
TZID:America/New_York
BEGIN:DAYLIGHT
TZOFFSETFROM:-0500
TZOFFSETTO:-0400
TZNAME:EDT
DTSTART:20190310T070000
END:DAYLIGHT
BEGIN:STANDARD
TZOFFSETFROM:-0400
TZOFFSETTO:-0500
TZNAME:EST
DTSTART:20191103T060000
END:STANDARD
END:VTIMEZONE
BEGIN:VEVENT
DTSTART;TZID=America/New_York:20191104T080000
DTEND;TZID=America/New_York:20191104T170000
DTSTAMP:20260425T101220
CREATED:20191021T000512Z
LAST-MODIFIED:20191219T211859Z
UID:10000460-1572854400-1572886800@amicaledesretraitesbnc.ca
SUMMARY:Déjeuner à St-Hyacinthe - Montréal / Montérégie
DESCRIPTION:Vous êtes cordialement invités à vous joindre à nous pour discuter\, rencontrer anciens collègues et papoter autour d’un bon déjeuner. \n  \nDATES :    Les premiers lundis de chaque mois impair (4 novembre 2019\, 6 janvier 2020\, 2 mars 2020\, 4 mai 2020\, 7 septembre 2020)\,  \nLIEU :      Resto-Grill Casa Flora\, au 3275 boul. Laframboise à St‑Hyacinthe. (Vaste stationnement à l’arrière du resto) \nHEURE :    8 h 30 \nCOÜT :      Un menu varié incluant choix du jour vous est offert. Le coût est à la charge de chacun. \n  \nPour vous inscrire communiquer avec Michel Coutu : mcoutu@guevremont.net ou au 450‑799‑4225. \nVERSION IMPRIMABLE
URL:https://amicaledesretraitesbnc.ca/event/dejeuner-a-st-hyacinthe/
LOCATION:Resto Grill Casa Flora\, 3275\, boul. Laframboise\, St-Hyacinthe\, Québec\, J2S4Z6\, Canada
CATEGORIES:Montréal / Montérégie
ORGANIZER;CN="Michel Coutu":MAILTO:mcoutu@guevremont.net
END:VEVENT
BEGIN:VEVENT
DTSTART;TZID=America/New_York:20191107T173000
DTEND;TZID=America/New_York:20191107T230000
DTSTAMP:20260425T101220
CREATED:20191008T135713Z
LAST-MODIFIED:20191111T195442Z
UID:10000445-1573147800-1573167600@amicaledesretraitesbnc.ca
SUMMARY:Souper spectacle - Casino de Montréal- Montérégie
DESCRIPTION:Michaël Rancourt c’est un talent fou\, un humour irrésistible et une voix. Mais quelle voix!  Avec plus de 2 000 spectacles et 30 ans de carrière\, le globe-trotter chanteur-imitateur nous arrive avec un véritable bijou de spectacle. Les Années Jukebox…de Piaf à Sinatra. Remontez le temps et revivez la trame sonore de toute une génération! Au menu les plus grands succès des fifties et des sixties avec : The Beach Boys\, Elvis Presley\, Bécaud\, Aznavour\, Édith Piaf\, The Beatles\, Bill Haley\, Ritchie Valens\, Joe Dassin\, Sinatra\, Chubby Checker\, The Platters\, Donald Lautrec\, Pierre Lalonde\, Johnny Cash\, Paul Anka\, James Brown et d’autres grands artistes ayant marqué l’histoire de la musique à jamais. Un véritable voyage musical dans le temps! \nEndroit : Casino de Montréal     1\, avenue du Casino Montréal (Québec) Canada H3C 4W7\nTéléphone : 514 392-2746 ou 1 800 665-2274 \n  \nStationnement Gratuit \nCout :   Membre 95 $              Non membre 99 $ \n– Un souper (tables de 4)      – \n– Le spectacle de 90 minutes \n– Le stationnement & le vestiaire du Casino \n-Les taxes et le service \n  \nDate limite de votre inscription: IMPORTANT !! Nous avons réservé un certain nombre de billets. Compte tenu des places très limités\, nous vous demandons de nous confirmer votre participation en communiquant par courriel ou par téléphone (noms sur communiqué) avant le 9 octobre. Nous vous donnerons par la suite la procédure à suivre pour effectuer le paiement. Vous pourrez toujours nous rejoindre après cette date. Nous allons pouvoir vous informer à ce moment s’il reste des places de disponible. \n  \nPour confirmation et informations additionnelles: Veuillez vous adresser à: \nDiane Cadieux dianec0806@hotmail.com au 514 951-4417 ou \nSerge Chalifoux sergebnc@videotron.ca 450 445-0688 \n  \n  \n  \n  \n 
URL:https://amicaledesretraitesbnc.ca/event/souper-spectacle-casino-de-montreal/
LOCATION:CASINO DE MONTRÉAL\, 1\, avenue du Casino\, Montréal\, Québec\, H3C 4W7\, Canada
CATEGORIES:Montréal / Montérégie
ORGANIZER;CN="Serge Chalifoux":MAILTO:amicalemtlmonteregie@gmail.com
END:VEVENT
END:VCALENDAR