BEGIN:VCALENDAR
VERSION:2.0
PRODID:-//Amicale des Retraités BNC - ECPv6.2.3//NONSGML v1.0//EN
CALSCALE:GREGORIAN
METHOD:PUBLISH
X-ORIGINAL-URL:https://amicaledesretraitesbnc.ca
X-WR-CALDESC:évènements pour Amicale des Retraités BNC
REFRESH-INTERVAL;VALUE=DURATION:PT1H
X-Robots-Tag:noindex
X-PUBLISHED-TTL:PT1H
BEGIN:VTIMEZONE
TZID:America/New_York
BEGIN:DAYLIGHT
TZOFFSETFROM:-0500
TZOFFSETTO:-0400
TZNAME:EDT
DTSTART:20230312T070000
END:DAYLIGHT
BEGIN:STANDARD
TZOFFSETFROM:-0400
TZOFFSETTO:-0500
TZNAME:EST
DTSTART:20231105T060000
END:STANDARD
END:VTIMEZONE
BEGIN:VEVENT
DTSTART;TZID=America/New_York:20230613T100000
DTEND;TZID=America/New_York:20230613T160000
DTSTAMP:20260424T120436
CREATED:20220904T184644Z
LAST-MODIFIED:20230422T124221Z
UID:10000421-1686650400-1686672000@amicaledesretraitesbnc.ca
SUMMARY:Visite au parc Marie-Victorin  -  Centre-du-Québec
DESCRIPTION:• Belle visite guidée au Parc Marie-Victorin par une guide-horticultrice. \n• Visite du laboratoire. \n• Diner sous chapiteau (possibilité d’acheter une boîte à lunch ou d’apporter votre lunch). \n• Café-causerie avec le Frère Marie-Victorin. \nVERSION IMPRIMABLE ET COUPON-RÉPONSE
URL:https://amicaledesretraitesbnc.ca/event/visite-au-parc-marie-victorin-centre-du-quebec/
LOCATION:Parc Marie-Victorin\, 385 boul. Marie-Victorin\, Kingsey Falls\, Qc\, J0A 1B0\, Canada
CATEGORIES:Centre-du-Québec
ATTACH;FMTTYPE=image/png:https://amicaledesretraitesbnc.ca/wp-content/uploads/2023/04/AFFICHE-WEB-5.png
ORGANIZER;CN="Pierrette Houle":MAILTO:amicalecdq@gmail.com
END:VEVENT
END:VCALENDAR