BEGIN:VCALENDAR
VERSION:2.0
PRODID:-//Amicale des Retraités BNC - ECPv6.2.3//NONSGML v1.0//EN
CALSCALE:GREGORIAN
METHOD:PUBLISH
X-WR-CALNAME:Amicale des Retraités BNC
X-ORIGINAL-URL:https://amicaledesretraitesbnc.ca
X-WR-CALDESC:évènements pour Amicale des Retraités BNC
REFRESH-INTERVAL;VALUE=DURATION:PT1H
X-Robots-Tag:noindex
X-PUBLISHED-TTL:PT1H
BEGIN:VTIMEZONE
TZID:America/New_York
BEGIN:DAYLIGHT
TZOFFSETFROM:-0500
TZOFFSETTO:-0400
TZNAME:EDT
DTSTART:20220313T070000
END:DAYLIGHT
BEGIN:STANDARD
TZOFFSETFROM:-0400
TZOFFSETTO:-0500
TZNAME:EST
DTSTART:20221106T060000
END:STANDARD
END:VTIMEZONE
BEGIN:VEVENT
DTSTART;TZID=America/New_York:20220920T131500
DTEND;TZID=America/New_York:20220920T160000
DTSTAMP:20260425T070542
CREATED:20220802T083642Z
LAST-MODIFIED:20230721T080910Z
UID:10000405-1663679700-1663689600@amicaledesretraitesbnc.ca
SUMMARY:Activités plein air - Centre-du-Québec
DESCRIPTION:Venez prendre une bonne bouffée d’air frais dans un environnement enchanteur au Parc Terre-des-Jeunes. \nVenez marcher\, faire du vélo et venez participer à une petite chasse aux trésors. \n  \nVERSION IMPRIMABLE
URL:https://amicaledesretraitesbnc.ca/event/activites-plein-air-centre-du-quebec/
LOCATION:Parc Terre-des-Jeunes\, 20\, rue des Nations\, Victoriaville\, Québec\, G6P 7H9\, Canada
CATEGORIES:Centre-du-Québec
ORGANIZER;CN="Pierrette Houle":MAILTO:amicalecdq@gmail.com
END:VEVENT
END:VCALENDAR