BEGIN:VCALENDAR
VERSION:2.0
PRODID:-//Amicale des Retraités BNC - ECPv6.2.3//NONSGML v1.0//EN
CALSCALE:GREGORIAN
METHOD:PUBLISH
X-WR-CALNAME:Amicale des Retraités BNC
X-ORIGINAL-URL:https://amicaledesretraitesbnc.ca
X-WR-CALDESC:évènements pour Amicale des Retraités BNC
REFRESH-INTERVAL;VALUE=DURATION:PT1H
X-Robots-Tag:noindex
X-PUBLISHED-TTL:PT1H
BEGIN:VTIMEZONE
TZID:America/New_York
BEGIN:DAYLIGHT
TZOFFSETFROM:-0500
TZOFFSETTO:-0400
TZNAME:EDT
DTSTART:20250309T070000
END:DAYLIGHT
BEGIN:STANDARD
TZOFFSETFROM:-0400
TZOFFSETTO:-0500
TZNAME:EST
DTSTART:20251102T060000
END:STANDARD
END:VTIMEZONE
BEGIN:VEVENT
DTSTART;TZID=America/New_York:20250107T113000
DTEND;TZID=America/New_York:20250107T143000
DTSTAMP:20260423T064237
CREATED:20240930T225431Z
LAST-MODIFIED:20241003T194602Z
UID:10001929-1736249400-1736260200@amicaledesretraitesbnc.ca
SUMMARY:Diner des Fêtes - Centre-du-Québec
DESCRIPTION:L’équipe du Centre-du-Québec vous attend en grand nombre pour venir festoyer avec nous. \nMenu à la carte et table d’hôte. \nVin fourni ainsi que le Montellier au citron. \nDes surprises vous attendent durant le repas. \n  \nDATE LIMITE D’INSCRIPTION :  27 DÉCEMBRE 2024 \nCOUPON-RÉPONSE ET VERSION IMPRIMABLE \n 
URL:https://amicaledesretraitesbnc.ca/event/diner-des-fetes-centre-du-quebec-2/
LOCATION:RESTAURANT LE-VIEUX-SAINT-CHARLES\, 800\, Boul. Foucault\, Saint-Charles de Drummond\, QC\, J2C 1A7\, Canada
CATEGORIES:Centre-du-Québec
ATTACH;FMTTYPE=image/gif:https://amicaledesretraitesbnc.ca/wp-content/uploads/2024/10/AFFICHE-WEB-gif.gif
ORGANIZER;CN="Suzanne Gervais":MAILTO:amicalecdq@gmail.com
END:VEVENT
END:VCALENDAR