BEGIN:VCALENDAR
VERSION:2.0
PRODID:-//Amicale des Retraités BNC - ECPv6.2.3//NONSGML v1.0//EN
CALSCALE:GREGORIAN
METHOD:PUBLISH
X-WR-CALNAME:Amicale des Retraités BNC
X-ORIGINAL-URL:https://amicaledesretraitesbnc.ca
X-WR-CALDESC:évènements pour Amicale des Retraités BNC
REFRESH-INTERVAL;VALUE=DURATION:PT1H
X-Robots-Tag:noindex
X-PUBLISHED-TTL:PT1H
BEGIN:VTIMEZONE
TZID:America/New_York
BEGIN:DAYLIGHT
TZOFFSETFROM:-0500
TZOFFSETTO:-0400
TZNAME:EDT
DTSTART:20250309T070000
END:DAYLIGHT
BEGIN:STANDARD
TZOFFSETFROM:-0400
TZOFFSETTO:-0500
TZNAME:EST
DTSTART:20251102T060000
END:STANDARD
BEGIN:DAYLIGHT
TZOFFSETFROM:-0500
TZOFFSETTO:-0400
TZNAME:EDT
DTSTART:20260308T070000
END:DAYLIGHT
BEGIN:STANDARD
TZOFFSETFROM:-0400
TZOFFSETTO:-0500
TZNAME:EST
DTSTART:20261101T060000
END:STANDARD
BEGIN:DAYLIGHT
TZOFFSETFROM:-0500
TZOFFSETTO:-0400
TZNAME:EDT
DTSTART:20270314T070000
END:DAYLIGHT
BEGIN:STANDARD
TZOFFSETFROM:-0400
TZOFFSETTO:-0500
TZNAME:EST
DTSTART:20271107T060000
END:STANDARD
END:VTIMEZONE
BEGIN:VEVENT
DTSTART;VALUE=DATE:20251029
DTEND;VALUE=DATE:20270501
DTSTAMP:20260419T165619
CREATED:20251029T092154Z
LAST-MODIFIED:20260410T205311Z
UID:10002121-1761696000-1809129599@amicaledesretraitesbnc.ca
SUMMARY:Air Fryer\, La Petite Bette -- Lanaudière/Laval
DESCRIPTION:PROLONGATION DE LA PROMOTION JUSQU’AU 30 AVRIL 2027\n• Tu veux cuisiner avec ton Air Fryer\, mais tu n’es pas encore très à l’aise ? Pas de souci ! Il y a un cours en ligne qui t’explique tout. Ça t’intéresse ?\n• Que vous soyez débutant ou expert vous allez apprendre de belles astuces. Des vidéos sur YouTube complète la formation.\nUn rabais de 12 $ a été accordé à tous les membres de l’Amicale.  Vous avez jusqu’au 30 avril 2026 pour en profiter et vous avez 1 an pour suivre la formation.  Alors n’hésitez pas et inscrivez-vous maintenant.\n  \nDÉTAILS COMPLETS DE L’ACTIVITÉ ET CODE PROMOTIONNEL
URL:https://amicaledesretraitesbnc.ca/event/air-fryer-la-petite-bette-lanaudiere-laval/
LOCATION:LA PETITE BETTE\, formation en ligne
CATEGORIES:Activités corporatives,Bas-St-Laurent,Centre-du-Québec,Estrie,Lanaudière / Laval,Laurentides,Mauricie,Montréal / Montérégie,Outaouais et est-Ontario,Québec / Chaudière-Appalaches
ATTACH;FMTTYPE=image/png:https://amicaledesretraitesbnc.ca/wp-content/uploads/2025/10/AFFICHE-WEB-FINALE.png
ORGANIZER;CN="Rachel Gagnon":MAILTO:amicalelavallanau@gmail.com
END:VEVENT
BEGIN:VEVENT
DTSTART;VALUE=DATE:20260411
DTEND;VALUE=DATE:20260412
DTSTAMP:20260419T165619
CREATED:20251102T084451Z
LAST-MODIFIED:20260201T150702Z
UID:10002124-1775865600-1775951999@amicaledesretraitesbnc.ca
SUMMARY:Les Géants de la chanson française -- Centre-du-Québec
DESCRIPTION:Nous sommes contraints d’annuler cette activité en raison d’un nombre insuffisant de participants.\n  \nVenez fêter avec nous le 20e anniversaire de la région du CENTRE-DU-QUÉBEC.\n \nPour cette occasion\, profitez d’une belle sortie pour vous rendre au théâtre Capitole de Québec en autocar de Luxe.  La région de l’Estrie se joindra à nous pour cette belle activité. \nLe prix comprend : Transport en autocar de luxe – Accompagnateur – 1 délicieux diner – le spectacle “Les géants de la chanson française” – Taxes et FICAV incluses. \nVERSION IMPRIMABLE \nPROSPECTUS (points d’embarquement\, etc.)
URL:https://amicaledesretraitesbnc.ca/event/les-geants-de-la-chanson-francaise-centre-du-quebec/
LOCATION:Théâtre Capitole de Québec\, Canada
CATEGORIES:Centre-du-Québec
ATTACH;FMTTYPE=image/png:https://amicaledesretraitesbnc.ca/wp-content/uploads/2026/02/AFFICHE-WEB-annulee.png
ORGANIZER;CN="Sophie Tessier%2C Expression voyages":MAILTO:sophie@expressionvoyages.com
END:VEVENT
BEGIN:VEVENT
DTSTART;TZID=America/New_York:20260505T113000
DTEND;TZID=America/New_York:20260505T143000
DTSTAMP:20260419T165619
CREATED:20260207T110524Z
LAST-MODIFIED:20260207T111104Z
UID:10002204-1777980600-1777991400@amicaledesretraitesbnc.ca
SUMMARY:Dîner amical -- Centre-du-Québec
DESCRIPTION:Une belle rencontre vous est proposée à l’occasion d’un lunch convivial\, pour échanger en toute simplicité. \n  \nDATE LIMITE D’INSCRIPTION :  30 AVRIL 2026 \nFICHE DÉTAILLÉE DE L’ACTIVITÉ \n 
URL:https://amicaledesretraitesbnc.ca/event/diner-amical-centre-du-quebec-2/
LOCATION:Restaurant Toujours Mikes\, 445 Boul. St-Joseph\, Drummondville\, Quebec\, J2B1B3\, Canada
CATEGORIES:Centre-du-Québec
ATTACH;FMTTYPE=image/png:https://amicaledesretraitesbnc.ca/wp-content/uploads/2026/02/AFFICHE-WEB-4.png
ORGANIZER;CN="Suzanne Gervais":MAILTO:amicalecdq@gmail.com
END:VEVENT
BEGIN:VEVENT
DTSTART;VALUE=DATE:20260601
DTEND;VALUE=DATE:20260602
DTSTAMP:20260419T165619
CREATED:20251109T101552Z
LAST-MODIFIED:20251109T101626Z
UID:10002145-1780272000-1780358399@amicaledesretraitesbnc.ca
SUMMARY:Visite "Moulin à Laine Ulverton" -- Centre-du-Québec
DESCRIPTION:Avec la région de l’Estrie \n 
URL:https://amicaledesretraitesbnc.ca/event/visite-laine-ulverton-centre-du-quebec/
LOCATION:Québec
CATEGORIES:Centre-du-Québec
END:VEVENT
BEGIN:VEVENT
DTSTART;TZID=America/New_York:20260702T080000
DTEND;TZID=America/New_York:20260705T170000
DTSTAMP:20260419T165619
CREATED:20260302T161236Z
LAST-MODIFIED:20260302T161236Z
UID:10002211-1782979200-1783270800@amicaledesretraitesbnc.ca
SUMMARY:Grand Tour BN 2026
DESCRIPTION:C’est avec beaucoup de plaisir que nous vous invitons à vous joindre à nous lors de la 14e édition du Grand Tour BN\, qui se tiendra du 2 au 5 juillet prochain à Rosemère. \nVotre engagement au fil des années a contribué à bâtir bien plus qu’un événement : nous sommes une véritable communauté. Aujourd’hui encore\, l’esprit du Tour demeure profondément marqué par votre participation et votre implication. \nNous serions donc très heureux\, une fois de plus\, de pouvoir compter sur votre participation à titre de bénévole et pourquoi ne pas profiter de cette occasion pour renouer avec d’anciens collègues et amis. \nVotre présence serait un magnifique clin d’œil à l’histoire du Tour… et un bel encouragement pour ceux et celles qui poursuivent l’aventure. \nPour vous inscrire\, rien de plus simple. Rendez-vous sur le site de Jeune en tête et complétez le formulaire. https://jedonneenligne.org/fondationfjet/campagne/GrandTourBN/subscribe/. \nEnviron un mois avant l’événement\, vous serez invités à participer à un appel téléphonique et nous vous partagerons de plus amples renseignements sur le déroulement de l’événement. \nSi\, entre temps vous avez des questions\, n’hésitez à me contacter par courriel au veroniquep.poirier@bnc.ca. \nAu plaisir de vous y retrouver ! \n  \nVoir tous les détails et modalités d’inscription \n 
URL:https://amicaledesretraitesbnc.ca/event/grand-tour-bn-2026/
LOCATION:Laurentides\, Rosemère\, Québec\, Canada
CATEGORIES:Activités corporatives,Bas-St-Laurent,Centre-du-Québec,Estrie,Lanaudière / Laval,Laurentides,Mauricie,Montréal / Montérégie,Outaouais et est-Ontario,Québec / Chaudière-Appalaches
ATTACH;FMTTYPE=image/png:https://amicaledesretraitesbnc.ca/wp-content/uploads/2026/03/grand-tour-bn-logo-2026.png
END:VEVENT
BEGIN:VEVENT
DTSTART;TZID=America/New_York:20260812T103000
DTEND;TZID=America/New_York:20260812T150000
DTSTAMP:20260419T165619
CREATED:20260203T191556Z
LAST-MODIFIED:20260203T191556Z
UID:10002196-1786530600-1786546800@amicaledesretraitesbnc.ca
SUMMARY:Croisière-Spectacle Tropicana à Magog - Centre-du-Québec
DESCRIPTION:VENEZ FÊTER LES 20 ANS DE LA RÉGION “CENTRE-DU-QUÉBEC”\nNous vous offrons une belle croisière sur le Lac Memphrémagog où un repas vous sera aussi servi à bord. En plus\, vous assisterez à un spectacle dansant magique avec Étienne Drapeau.  Laissez-vous porter par les grands classiques de la musique tropicale et festive\, dans une atmosphère conviviale propice à des moments inoubliables. \nLe transport s’effectuera dans un autocar de luxe au départ de 5 villes différentes (voir ci-dessous). \n     \nDATE LIMITE D’INSCRIPTION :  30 AVRIL 2026 \n  \nFICHE DÉTAILLÉE DE L’ACTIVITÉ \nPROSPECTUS DE L’AGENCE DE VOYAGE
URL:https://amicaledesretraitesbnc.ca/event/croisiere-spectacle-tropicana-a-magog-centre-du-quebec/
LOCATION:Escapades Memphrémagog\, quai Mac Pherson\, Magog\, QC\, J1X 3L2
CATEGORIES:Centre-du-Québec
ATTACH;FMTTYPE=image/png:https://amicaledesretraitesbnc.ca/wp-content/uploads/2026/02/Affiche-Web-1.png
END:VEVENT
BEGIN:VEVENT
DTSTART;VALUE=DATE:20260913
DTEND;VALUE=DATE:20261002
DTSTAMP:20260419T165619
CREATED:20251030T100129Z
LAST-MODIFIED:20251104T203035Z
UID:10002122-1789257600-1790899199@amicaledesretraitesbnc.ca
SUMMARY:VOYAGE ANGLETERRE-ÉCOSSE ET IRLANDE
DESCRIPTION:NOUS SOMMES DÉSOLÉS MAIS TOUTES LES PLACES ONT ÉTÉ RÉSERVÉES.\nVotre comité Voyages vous invite à vivre une expérience inoubliable à travers trois joyaux de culture et de paysages : l’Angleterre\, l’Écosse et l’Irlande. Partez à la découverte de traditions fascinantes\, de châteaux majestueux et de panoramas à couper le souffle! \n19 jours / 17 nuits / 34 repas\nCOMPREND : \n•  Vol aller-retour de Montréal avec Air Canada  • Frais pour 1 bagage enregistré de 23 kg et 1 bagage de cabine • Transport en autocar\, incluant les transferts aéroportuaires (sauf le jour 3) • 17 nuits d’hébergement en hôtel 3*+  • 17 petits déjeuners\, 16 soupers et 1 souper-spectacle Celtic Night • 22 visites/entrées\n \n  \nPROSPECTUS AVEC ITINÉRAIRE COMPLET\nLIEN POUR RÉSERVATION\n \n  \n  \n 
URL:https://amicaledesretraitesbnc.ca/event/voyage-angleterre-ecosse-et-irlande/
LOCATION:VOYAGE ANGLETERRE\, ÉCOSSE ET IRLANDE
CATEGORIES:Activités corporatives,Bas-St-Laurent,Centre-du-Québec,Estrie,Lanaudière / Laval,Laurentides,Mauricie,Montréal / Montérégie,Outaouais et est-Ontario,Québec / Chaudière-Appalaches
ATTACH;FMTTYPE=image/png:https://amicaledesretraitesbnc.ca/wp-content/uploads/2025/11/AFFICHE-WEB-COMPLET1.png
ORGANIZER;CN="Gendrontours Caroline Poulin":MAILTO:caropoulin@voyagesgendron.com
END:VEVENT
END:VCALENDAR