BEGIN:VCALENDAR
VERSION:2.0
PRODID:-//Amicale des Retraités BNC - ECPv6.2.3//NONSGML v1.0//EN
CALSCALE:GREGORIAN
METHOD:PUBLISH
X-WR-CALNAME:Amicale des Retraités BNC
X-ORIGINAL-URL:https://amicaledesretraitesbnc.ca
X-WR-CALDESC:évènements pour Amicale des Retraités BNC
REFRESH-INTERVAL;VALUE=DURATION:PT1H
X-Robots-Tag:noindex
X-PUBLISHED-TTL:PT1H
BEGIN:VTIMEZONE
TZID:America/New_York
BEGIN:DAYLIGHT
TZOFFSETFROM:-0500
TZOFFSETTO:-0400
TZNAME:EDT
DTSTART:20190310T070000
END:DAYLIGHT
BEGIN:STANDARD
TZOFFSETFROM:-0400
TZOFFSETTO:-0500
TZNAME:EST
DTSTART:20191103T060000
END:STANDARD
END:VTIMEZONE
BEGIN:VEVENT
DTSTART;TZID=America/New_York:20191204T100000
DTEND;TZID=America/New_York:20191204T113000
DTSTAMP:20260419T182525
CREATED:20191021T003358Z
LAST-MODIFIED:20191129T215740Z
UID:10000462-1575453600-1575459000@amicaledesretraitesbnc.ca
SUMMARY:Assemblée Générale Annuelle
DESCRIPTION:Vous voulez connaître les réalisations de l’Amicale pour l’année 2018-2019 et en savoir plus sur sa santé financière. Venez rencontrer  les membres du conseil d’administration lors de l’assemblée annuelle des membres et ils pourront répondre à vos questions. \nL’assemblée se tiendra le 4 décembre\, juste avant le diner de Noël de la région de Montréal-Montérégie. Si vous assistez aux deux évènements\, nous vous demandons de nous retourner les deux coupons-réponse dûment complétés dans la même enveloppe. \nNous vous attendons en grand nombre. \nAfin de nous permettre de prévoir les installations nécessaires à la bonne marche de cet événement et de minimiser les coûts pour votre Amicale\, nous vous saurions gré de confirmer votre présence en nous retournant\, dûment complété\, le coupon-réponse au bas de la page au plus tard le 21 novembre 2019. \n  \nVERSION IMPRIMABLE ET COUPON RÉPONSE \n 
URL:https://amicaledesretraitesbnc.ca/event/assemblee-generale-annuelle/
LOCATION:Hôtel Universel\, 5000\, rue Sherbrooke Est\, Montréal\, Québec\, Canada
CATEGORIES:Activités corporatives,Bas-St-Laurent,Centre-du-Québec,Estrie,Lanaudière / Laval,Laurentides,Mauricie,Montréal / Montérégie,Outaouais et est-Ontario,Québec / Chaudière-Appalaches
END:VEVENT
BEGIN:VEVENT
DTSTART;TZID=America/New_York:20191205T113000
DTEND;TZID=America/New_York:20191205T170000
DTSTAMP:20260419T182525
CREATED:20190908T193824Z
LAST-MODIFIED:20191123T024405Z
UID:10000441-1575545400-1575565200@amicaledesretraitesbnc.ca
SUMMARY:Diner de Noël- Bas St-Laurent
DESCRIPTION:Vous êtes invité à venir vous joindre à nous pour le diner de Noël : \nDate : Jeudi le 5 décembre 2019 \nLieu : Hôtel Gouverneur \nHeure : 11 h 30 \nDivers tirages de participation\naux membres présents \nS.V.P. confirmer votre réponse avant le 30 novembre à : rparadis19@gmail.com \nAu plaisir de vous voir ! \nPour information\, contactez : Raymond Paradis au 418-723-8289 \nVERSION IMPRIMABLE \n 
URL:https://amicaledesretraitesbnc.ca/event/diner-de-noel-2/
LOCATION:hotels gouverneur Rimouski\, 155 Boulevard René-Lepage Est\, Rimouski\, Québec\, G5L 1P2\, Canada
CATEGORIES:Bas-St-Laurent
ORGANIZER;CN="Raymond Paradis":MAILTO:rparadis19@gmail.com
END:VEVENT
END:VCALENDAR