BEGIN:VCALENDAR
VERSION:2.0
PRODID:-//Amicale des Retraités BNC - ECPv6.2.3//NONSGML v1.0//EN
CALSCALE:GREGORIAN
METHOD:PUBLISH
X-WR-CALNAME:Amicale des Retraités BNC
X-ORIGINAL-URL:https://amicaledesretraitesbnc.ca
X-WR-CALDESC:évènements pour Amicale des Retraités BNC
REFRESH-INTERVAL;VALUE=DURATION:PT1H
X-Robots-Tag:noindex
X-PUBLISHED-TTL:PT1H
BEGIN:VTIMEZONE
TZID:America/New_York
BEGIN:DAYLIGHT
TZOFFSETFROM:-0500
TZOFFSETTO:-0400
TZNAME:EDT
DTSTART:20260308T070000
END:DAYLIGHT
BEGIN:STANDARD
TZOFFSETFROM:-0400
TZOFFSETTO:-0500
TZNAME:EST
DTSTART:20261101T060000
END:STANDARD
END:VTIMEZONE
BEGIN:VEVENT
DTSTART;VALUE=DATE:20261001
DTEND;VALUE=DATE:20261002
DTSTAMP:20260425T112516
CREATED:20251109T105343Z
LAST-MODIFIED:20260317T195714Z
UID:10002173-1790812800-1790899199@amicaledesretraitesbnc.ca
SUMMARY:Souper Hôtellerie - Mauricie
DESCRIPTION:
URL:https://amicaledesretraitesbnc.ca/event/diner-mauricie-2/
LOCATION:Québec
CATEGORIES:Mauricie
END:VEVENT
BEGIN:VEVENT
DTSTART;VALUE=DATE:20261001
DTEND;VALUE=DATE:20261002
DTSTAMP:20260425T112516
CREATED:20251109T105019Z
LAST-MODIFIED:20251109T105019Z
UID:10002169-1790812800-1790899199@amicaledesretraitesbnc.ca
SUMMARY:Visite d'une cannebergière - Laurentides
DESCRIPTION:
URL:https://amicaledesretraitesbnc.ca/event/visite-dune-cannebergiere-laurentides/
LOCATION:Québec
CATEGORIES:Laurentides
END:VEVENT
BEGIN:VEVENT
DTSTART;VALUE=DATE:20261001
DTEND;VALUE=DATE:20261002
DTSTAMP:20260425T112516
CREATED:20251109T104704Z
LAST-MODIFIED:20251109T104704Z
UID:10002167-1790812800-1790899199@amicaledesretraitesbnc.ca
SUMMARY:Conférence - Lanaudière/Laval
DESCRIPTION:
URL:https://amicaledesretraitesbnc.ca/event/conference-lanaudiere-laval/
LOCATION:Québec
CATEGORIES:Lanaudière / Laval
END:VEVENT
BEGIN:VEVENT
DTSTART;VALUE=DATE:20261001
DTEND;VALUE=DATE:20261002
DTSTAMP:20260425T112516
CREATED:20251109T104303Z
LAST-MODIFIED:20251109T104303Z
UID:10002163-1790812800-1790899199@amicaledesretraitesbnc.ca
SUMMARY:Dîner - Estrie
DESCRIPTION:
URL:https://amicaledesretraitesbnc.ca/event/diner-estrie-7/
LOCATION:Québec
CATEGORIES:Estrie
END:VEVENT
BEGIN:VEVENT
DTSTART;VALUE=DATE:20261015
DTEND;VALUE=DATE:20261016
DTSTAMP:20260425T112516
CREATED:20251109T105941Z
LAST-MODIFIED:20260225T213401Z
UID:10002210-1792022400-1792108799@amicaledesretraitesbnc.ca
SUMMARY:Quilles - Montréal/Montérégie
DESCRIPTION:
URL:https://amicaledesretraitesbnc.ca/event/quilles-montreal-monteregie-2/
LOCATION:Québec
CATEGORIES:Montréal / Montérégie
END:VEVENT
BEGIN:VEVENT
DTSTART;VALUE=DATE:20261015
DTEND;VALUE=DATE:20261016
DTSTAMP:20260425T112516
CREATED:20251109T103910Z
LAST-MODIFIED:20251109T103910Z
UID:10002160-1792022400-1792108799@amicaledesretraitesbnc.ca
SUMMARY:Déjeuner de fin d'année -- Bas-St-Laurent
DESCRIPTION:
URL:https://amicaledesretraitesbnc.ca/event/dejeuner-de-fin-dannee-bas-st-laurent/
LOCATION:Québec
CATEGORIES:Bas-St-Laurent
END:VEVENT
BEGIN:VEVENT
DTSTART;TZID=America/New_York:20261028T131500
DTEND;TZID=America/New_York:20261028T170000
DTSTAMP:20260425T112516
CREATED:20260416T085016Z
LAST-MODIFIED:20260423T193329Z
UID:10002214-1793193300-1793206800@amicaledesretraitesbnc.ca
SUMMARY:Enregistrement Les Enfants de la Télé - Laurentides
DESCRIPTION:LA DATE A ÉTÉ CHANGÉE POUR LE 28 OCTOBRE 2026 À 13 H 15 \n Une sortie à ne pas manquer ! \nNous vous proposons d’assister à l’enregistrement de l’émission Les Enfants de la Télé .  Venez vivre une expérience unique\, remplie de rires\, de souvenirs et de moments inoubliables en coulisses d’une émission emblématique. Beaucoup de plaisir ! \nPossibilité d’aller souper par la suite. \nLIMITÉ À 30 PERSONNES. \nDATE LIMITE D’INSCRIPTION :  15 août 2026 \nFICHE DÉTAILLÉE DE L’ACTIVITÉ
URL:https://amicaledesretraitesbnc.ca/event/enregistrement-les-enfants-de-la-tele-laurentides/
LOCATION:MAISON DE RADIO-CANADA\, 1000 Av. Papineau\, Montréal\, QC\, H2K 0C2\, Canada
CATEGORIES:Laurentides
ATTACH;FMTTYPE=image/png:https://amicaledesretraitesbnc.ca/wp-content/uploads/2026/04/AFFICHE-WEB-4.png
ORGANIZER;CN="Jos%C3%A9e Savard":MAILTO:amicale.laurentides@outlook.com
END:VEVENT
END:VCALENDAR